BEGIN:VCALENDAR
METHOD:PUBLISH
PRODID:-//Weblication CMS
VERSION:2.0
BEGIN:VEVENT
SUMMARY:Adventsanlass / Lichterweg
DTSTART:20251201T000000
DESCRIPTION:
LOCATION:
UID:http://www.gv-kirchberg.ch/schulen/veranstaltungen/termine/Adventsanlass-Lichterweg.php?uid=465b4d53927ce470eefe81c9a63a1448
URL:http://www.gv-kirchberg.ch/schulen/veranstaltungen/termine/Adventsanlass-Lichterweg.php
END:VEVENT
END:VCALENDAR