BEGIN:VCALENDAR
METHOD:PUBLISH
PRODID:-//Weblication CMS
VERSION:2.0
BEGIN:VEVENT
SUMMARY:Schulfest
DTSTART:20250703T000000
DESCRIPTION:
LOCATION:
UID:http://www.gv-kirchberg.ch/schulen/veranstaltungen/termine/Schulfest.php?uid=b7d0fe2e994ed7495f034343bccaf668
URL:http://www.gv-kirchberg.ch/schulen/veranstaltungen/termine/Schulfest.php
END:VEVENT
END:VCALENDAR