BEGIN:VCALENDAR
METHOD:PUBLISH
PRODID:-//Weblication CMS
VERSION:2.0
BEGIN:VEVENT
SUMMARY:Vernissage der Abschlussklassen
DTSTART:20250626T000000
DESCRIPTION:Ausstellung der Selbständigen Projektarbeiten. Der Verabschiedungsteil richtet sich an die direkten Angehörigen der 9. Klassen.
LOCATION:
UID:http://www.gv-kirchberg.ch/schulen/veranstaltungen/termine/Vernisasge-der-Abschlussklassen.php?uid=6d2cfbb1447df90ffade1774af1b7432
URL:http://www.gv-kirchberg.ch/schulen/veranstaltungen/termine/Vernisasge-der-Abschlussklassen.php
END:VEVENT
END:VCALENDAR