BEGIN:VCALENDAR
METHOD:PUBLISH
PRODID:-//Weblication CMS
VERSION:2.0
BEGIN:VEVENT
SUMMARY:Grand-Prix von Bern
DTSTART:20250510T140000
DESCRIPTION:Wir nehmen mit Schülerinnen und Schülern auch dieses Jahr am GP teil.
LOCATION:
UID:http://www.gv-kirchberg.ch/schulen/veranstaltungen/termine/GP-Bern.php?uid=8ea7fe0cced45a2cae1be6058df33182
URL:http://www.gv-kirchberg.ch/schulen/veranstaltungen/termine/GP-Bern.php
END:VEVENT
END:VCALENDAR